BEGIN:VCALENDAR
VERSION:2.0
PRODID:spatie/icalendar-generator
DESCRIPTION:Events from MHA Lancaster Site
X-WR-CALDESC:Events from MHA Lancaster Site
REFRESH-INTERVAL;VALUE=DURATION:PT1440M
X-PUBLISHED-TTL:PT1440M
BEGIN:VTIMEZONE
TZID:Etc/GMT+0
BEGIN:STANDARD
DTSTART:20230513T190000Z
TZOFFSETFROM:+0000
TZOFFSETTO:+0000
END:STANDARD
END:VTIMEZONE
BEGIN:VTIMEZONE
TZID:UTC
BEGIN:STANDARD
DTSTART:20250724T105047Z
TZOFFSETFROM:+0000
TZOFFSETTO:+0000
END:STANDARD
END:VTIMEZONE
BEGIN:VEVENT
UID:10-10
DTSTAMP:20260420T105047Z
SUMMARY:Depression Support Group
LOCATION:
ORGANIZER;CN=MHA:MAILTO:mha@mhalancaster.org
DTSTART;TZID=Etc/GMT+0:20240207T190000
DTEND;TZID=Etc/GMT+0:20240207T203000
X-ALT-DESC;FMTTYPE=TEXT/HTML:<p>Peer-led support group for adults and famil
 ies: drop-in\, confidential and free\; no registration required. <br />\n
 Held in MHA Conference Room: 245 Butler Ave\, Suite 204\, Lancaster\, PA 1
 7601</p>\n
CATEGORIES:General,  Support Groups
URL;VALUE=URI:https://mhalancaster.org/mc-events/depression-support-group-9
 /
METHOD:PUBLISH
END:VEVENT
END:VCALENDAR